BEGIN:VCALENDAR
VERSION:2.0
PRODID:-//ChamberMaster//Event Calendar 2.0//EN
METHOD:PUBLISH
X-PUBLISHED-TTL:P3D
REFRESH-INTERVAL:P3D
CALSCALE:GREGORIAN
BEGIN:VEVENT
DTSTART;VALUE=DATE:20230212
DTEND;VALUE=DATE:20230418
TRANSP:TRANSPARENT
X-MICROSOFT-CDO-ALLDAYEVENT:TRUE
SUMMARY:Volunteer Income Tax Assistance
DESCRIPTION:IRS Ceritfied Free Tax Preparation and Filing
X-ALT-DESC;FMTTYPE=text/html:IRS Ceritfied Free Tax Preparation and Filing
LOCATION:Bandon Community Center 1200 11th St SW\, Bandon
UID:e.2504.4768
SEQUENCE:3
DTSTAMP:20260419T121944Z
URL:https://directory.bandon.com/events/details/volunteer-income-tax-assistance-4768
END:VEVENT

END:VCALENDAR
