BEGIN:VCALENDAR
VERSION:2.0
PRODID:-//ChamberMaster//Event Calendar 2.0//EN
METHOD:PUBLISH
X-PUBLISHED-TTL:P3D
REFRESH-INTERVAL:P3D
CALSCALE:GREGORIAN
BEGIN:VEVENT
DTSTART:20251127T160000Z
DTEND:20251127T180000Z
X-MICROSOFT-CDO-ALLDAYEVENT:FALSE
SUMMARY:Turkey Trot
DESCRIPTION:5K Fun Run/Walk/Push a Pram\n\n\n\nThis is a low-key\, fun event for the whole family (no numbers\, no timing)\, and a great way to build up an appetite for the big Turkey Feast.\n\n\n\nThe race is free\, but please register online to sign a waiver. Bring two+ cans of food to donate for an entry fee. \n\n\n\nYou can also sign up Thanksgiving morning starting at 8 AM.
X-ALT-DESC;FMTTYPE=text/html:<br />\n<br />\n5K Fun Run/Walk/Push a Pram<br />\n<br />\nThis is a low-key\, fun event for the whole family (no numbers\, no timing)\, and a great way to build up an appetite for the big Turkey Feast.<br />\n<br />\nThe race is free\, but please register online to sign a waiver.&nbsp\;Bring two+ cans of food to donate for an entry fee.&nbsp\;<br />\n<br />\nYou can also sign up Thanksgiving morning starting at 8 AM.
LOCATION:John Topits Park (Empire Lakes)
UID:e.2504.6044
SEQUENCE:3
DTSTAMP:20260419T211655Z
URL:https://directory.bandon.com/events/details/turkey-trot-6044
END:VEVENT

END:VCALENDAR
