BEGIN:VCALENDAR
VERSION:2.0
PRODID:-//ChamberMaster//Event Calendar 2.0//EN
METHOD:PUBLISH
X-PUBLISHED-TTL:P3D
REFRESH-INTERVAL:P3D
CALSCALE:GREGORIAN
BEGIN:VEVENT
DTSTART:20230515T230000Z
DTEND:20230517T001500Z
X-MICROSOFT-CDO-ALLDAYEVENT:FALSE
SUMMARY:Travel Southern Oregon Coast Conference 2023
DESCRIPTION:The TSOC Network Idea Exchange will bring regional tourism partners together to learn\, build relationships and find solutions to the challenges we face as an industry.\n\n \n\nWorking together to strengthen the Southern Oregon Coast through Education\, Collaboration and Networking
X-ALT-DESC;FMTTYPE=text/html:<p style="margin: 0px auto\; padding: 0px\; font-family: &quot\;Open Sans&quot\;\; color: rgb(63\, 63\, 63)\; font-size: 16px\; background-color: rgb(255\, 255\, 255)\; line-height: 26px !important\;">The TSOC Network Idea Exchange will bring regional tourism partners together to learn\, build relationships and find solutions to the challenges we face as an industry.</p>\n\n<p style="margin: 0px auto\; padding: 0px\; font-family: &quot\;Open Sans&quot\;\; color: rgb(63\, 63\, 63)\; font-size: 16px\; background-color: rgb(255\, 255\, 255)\; line-height: 26px !important\;">&nbsp\;</p>\n\n<p style="margin: 0px auto\; padding: 0px\; font-family: &quot\;Open Sans&quot\;\; color: rgb(63\, 63\, 63)\; font-size: 16px\; background-color: rgb(255\, 255\, 255)\; line-height: 26px !important\;"><strong><em style="position: relative\;">Working together to strengthen the Southern Oregon Coast through Education\, Collaboration and Networking</em></strong></p>\n
LOCATION:The Mill Casino Hotel\, Coos Bay\, OR
UID:e.2504.4959
SEQUENCE:3
DTSTAMP:20260421T102630Z
URL:https://directory.bandon.com/events/details/travel-southern-oregon-coast-conference-2023-4959
END:VEVENT

END:VCALENDAR
