BEGIN:VCALENDAR
VERSION:2.0
PRODID:-//ChamberMaster//Event Calendar 2.0//EN
METHOD:PUBLISH
X-PUBLISHED-TTL:P3D
REFRESH-INTERVAL:P3D
CALSCALE:GREGORIAN
BEGIN:VEVENT
DTSTART:20230408T220000Z
DTEND:20230409T000000Z
X-MICROSOFT-CDO-ALLDAYEVENT:FALSE
SUMMARY:THE LITTLE MERMAID - Missoula Children's Theatre
DESCRIPTION:In a new version of the age-old tale\, lots of music\, plot surprises and humor await the audience.\n\n\n\nSynopsis: Deep in the salty waters of the Sassafras Sea\, there lived a Little Mermaid. Her name was Celia. She lived for music. In fact\, it was said that she had the loveliest scales in all of the Deep. Celia and her three sisters were allowed one visit to the World Above\, each on their sixteenth birthday\, to learn the secrets of life on dry land. Their discoveries included ferocious dragons\, advancing armies and\, of course\, a handsome and resourceful Prince Charming.\n\n\n\nThe Little Mermaid was conceived and written by Jim Caron with music and lyrics by Michael McGill and Jim Caron. This production is part of the Missoula Children's Theatre's unique international touring project and is presented locally by the CREATE Youth Center of Coquille. \n\n\n\nPerformances will be April 8th at the Sawdust Theatre (120 N Adams\, Coquille) at 3 pm and 7 pm. Tickets are $15 for adults and $10 for children. Tickets can be reserved through drnancykeller@yahoo.com or purchased at the door.\n\n\n\nFor more information\, call Dr. Nancy Keller 541 396-3855\, 541 290-8479 or e-mail is best drnancykeller@yahoo.com.
X-ALT-DESC;FMTTYPE=text/html:<br />\nIn a new version of the age-old tale\, lots of music\, plot surprises and humor await the audience.<br />\n<br />\nSynopsis: Deep in the salty waters of the Sassafras Sea\, there lived a Little Mermaid. Her name was Celia. She lived for music. In fact\, it was said that she had the loveliest scales in all of the Deep. Celia and her three sisters were allowed one visit to the World Above\, each on their sixteenth birthday\, to learn the secrets of life on dry land. Their discoveries included ferocious dragons\, advancing armies and\, of course\, a handsome and resourceful Prince Charming.<br />\n<br />\nThe Little Mermaid was conceived and written by Jim Caron with music and lyrics by Michael McGill and Jim Caron.&nbsp\;This production is part of the Missoula Children&#39\;s Theatre&#39\;s unique international touring project and is presented locally by the CREATE Youth Center of Coquille.&nbsp\;<br />\n<br />\nPerformances will be April 8th at the Sawdust Theatre (120 N Adams\, Coquille) at 3 pm and 7 pm.&nbsp\;Tickets are $15 for adults and $10 for children. Tickets can be reserved through drnancykeller@yahoo.com or purchased at the door.<br />\n<br />\nFor more information\, call Dr. Nancy Keller 541 396-3855\, 541 290-8479 or e-mail is best drnancykeller@yahoo.com.&nbsp\;
LOCATION:Sawdust Theatre 120 N Adams Street Coquille\, OR 97423
UID:e.2504.4955
SEQUENCE:3
DTSTAMP:20260419T122054Z
URL:https://directory.bandon.com/events/details/the-little-mermaid-missoula-children-s-theatre-4955
END:VEVENT

END:VCALENDAR
