BEGIN:VCALENDAR
VERSION:2.0
PRODID:-//ChamberMaster//Event Calendar 2.0//EN
METHOD:PUBLISH
X-PUBLISHED-TTL:P3D
REFRESH-INTERVAL:P3D
CALSCALE:GREGORIAN
BEGIN:VEVENT
DTSTART:20230412T020000Z
DTEND:20230412T040000Z
X-MICROSOFT-CDO-ALLDAYEVENT:FALSE
SUMMARY:The Kingston Trio
DESCRIPTION:The Kingston Trio comes to the Sprague Community Theater\, in concert on Tuesday\, April 11\, at 7 p.m.\n\n\n\nAdmission is $50\, and advance tickets are available at Eventbrite.\n\n\n\nFans of legendary folk icons The Kingston Trio can re-discover their timeless music all over again\, after a forced nearly two-year hiatus due to pandemic restrictions as the group returns to their national tour.\n\n\n\nAll three current members\, Mike Marvin\, Tim Gorelangton\, and Buddy Woodward have intrinsic links to and experience with the original group: Mike is the adopted son of founding member Nick Reynolds\, who was also his musical mentor\; Tim\, a close friend since boyhood\, is one of the few musicians outside the Trio who has recorded with Nick Reynolds\; and Buddy\, who has performed with longtime Kingston Trio member George Grove.\n\n\n\nMany of their personal memories recall the iconic trio's performances and journey as folk music made its extraordinary ascent to the pinnacle of popular culture   and the top of the music charts. They'll perform such timeless classics "Where Have All The Flowers Gone?" and "Tom Dooley."
X-ALT-DESC;FMTTYPE=text/html:<br />\nThe Kingston Trio comes to the Sprague Community Theater\, in concert on Tuesday\, April 11\, at 7 p.m.<br />\n<br />\nAdmission is $50\, and advance tickets are available at <a href="https://www.eventbrite.com/e/paul-mitchell-systems-presents-the-kingston-trio-live-tickets-559072128787">Eventbrite</a>.<br />\n<br />\nFans of legendary folk icons The Kingston Trio can re-discover their timeless music all over again\, after a forced nearly two-year hiatus due to pandemic restrictions as the group returns to their national tour.<br />\n<br />\nAll three current members\, Mike Marvin\, Tim Gorelangton\, and Buddy Woodward have intrinsic links to and experience with the original group: Mike is the adopted son of founding member Nick Reynolds\, who was also his musical mentor\; Tim\, a close friend since boyhood\, is one of the few musicians outside the Trio who has recorded with Nick Reynolds\; and Buddy\, who has performed with longtime Kingston Trio member George Grove.<br />\n<br />\nMany of their personal memories recall the iconic trio&rsquo\;s performances and journey as folk music made its extraordinary ascent to the pinnacle of popular culture &ndash\; and the top of the music charts. They&rsquo\;ll perform such timeless classics &ldquo\;Where Have All The Flowers Gone?&rdquo\; and &ldquo\;Tom Dooley.&rdquo\;
LOCATION:Sprague Community Theater
UID:e.2504.5096
SEQUENCE:3
DTSTAMP:20260419T121730Z
URL:https://directory.bandon.com/events/details/the-kingston-trio-5096
END:VEVENT

END:VCALENDAR
