BEGIN:VCALENDAR
VERSION:2.0
PRODID:-//ChamberMaster//Event Calendar 2.0//EN
METHOD:PUBLISH
X-PUBLISHED-TTL:P3D
REFRESH-INTERVAL:P3D
CALSCALE:GREGORIAN
BEGIN:VEVENT
DTSTART:20230429T180000Z
DTEND:20230430T000000Z
X-MICROSOFT-CDO-ALLDAYEVENT:FALSE
SUMMARY:Tee Up for Cancer - American Cancer Society Benefit
DESCRIPTION:Golf tournament fundraiser with proceeds going to the American Cancer Society.\n\n\n\n4-person scramble. $60pp includes greens fee\, burgers\, prizes\, and fun!\n\n\n\nOn-course & pre-event contests\, silent auction\, raffle\, 50/50 \n\n\n\nTo register a team please stop by or call the Coquille Valley Elks @ 541-572-1935\n\n\n\nWhile the golf tournament is in Coos County\, anyone can donate to the virtual fundraiser. Those donating online will get an email with a tax ID # for your records.\n\n\n\nTo make online donations to the charity please follow these instructions: Go to https://www.pnwpga.com/100-hole-marathon/ Click "more participants." Find Jennifer Parker @ Coquille Valley Elks Club\, and donate. \n\n\n\nAnyone wanting to donate items to the silent auction or become a tournament or hole sponsor please contact  Jennifer Parker at jennifer.parker@pga.com.
X-ALT-DESC;FMTTYPE=text/html:<br />\n<br />\nGolf tournament fundraiser with proceeds going to the American Cancer Society.<br />\n<br />\n4-person scramble. $60pp includes greens fee\, burgers\, prizes\, and fun!<br />\n<br />\nOn-course &amp\; pre-event contests\, silent auction\, raffle\, 50/50&nbsp\;<br />\n<br />\nTo register a team please stop by or call the Coquille Valley Elks @ 541-572-1935<br />\n<br />\nWhile the golf tournament is in Coos County\, anyone can donate to the virtual fundraiser. Those donating online will get an email with a tax ID # for your records.<br />\n<br />\nTo make online donations to the charity please follow these instructions:&nbsp\;Go to&nbsp\;<a href="https://www.pnwpga.com/100-hole-marathon/">https://www.pnwpga.com/100-hole-marathon/</a>&nbsp\;Click &quot\;more participants.&quot\; Find Jennifer Parker @ Coquille Valley Elks Club\, and donate.&nbsp\;<br />\n<br />\nAnyone wanting to donate items to the silent auction or become a tournament or hole sponsor please contact&nbsp\; Jennifer Parker at <a href="mailto:jennifer.parker@pga.com?subject=100%20Hole%20Marathon">jennifer.parker@pga.com</a>.
LOCATION:Coquille Valley Elks Lodge #1935
UID:e.2504.5166
SEQUENCE:3
DTSTAMP:20260419T122001Z
URL:https://directory.bandon.com/events/details/tee-up-for-cancer-american-cancer-society-benefit-5166
END:VEVENT

END:VCALENDAR
