BEGIN:VCALENDAR
VERSION:2.0
PRODID:-//ChamberMaster//Event Calendar 2.0//EN
METHOD:PUBLISH
X-PUBLISHED-TTL:P3D
REFRESH-INTERVAL:P3D
CALSCALE:GREGORIAN
BEGIN:VEVENT
DTSTART:20230325T200000Z
DTEND:20230325T223000Z
X-MICROSOFT-CDO-ALLDAYEVENT:FALSE
SUMMARY:Spark Your Inner Fire ~ A Vision PlayShop with Lauren Perotti
DESCRIPTION:Create a Clear Picture of a Life You LOVE ~ And Discover How to Make it Manifest! Take a Step in the Direction of Your Dream! Join Lauren for a Creative and Fun Afternoon to:   Remember what you are passionate about and LOVE.   Create a powerful Vision Board of your dream life.   Write a clear vision statement in present tense ~ a key to attracting it.   Identify action steps you can take in the direction of your vision. $25 All Materials Provided REGISTER NOW at https://www.eventcreate.com/e/sparkyourinnerfire
X-ALT-DESC;FMTTYPE=text/html:Create a Clear Picture of a Life You LOVE ~ And Discover How to Make it Manifest! Take a Step in the Direction of Your Dream! Join Lauren for a Creative and Fun Afternoon to: &bull\; Remember what you are passionate about and LOVE. &bull\; Create a powerful Vision Board of your dream life. &bull\; Write a clear vision statement in present tense ~ a key to attracting it. &bull\; Identify action steps you can take in the direction of your vision. $25 All Materials Provided REGISTER NOW at https://www.eventcreate.com/e/sparkyourinnerfire
LOCATION:Bandon Community Center ("The Barn") 1200 11th St. SW
UID:e.2504.4946
SEQUENCE:3
DTSTAMP:20260419T135741Z
URL:https://directory.bandon.com/events/details/spark-your-inner-fire-a-vision-playshop-with-lauren-perotti-03-25-2023-4946
END:VEVENT

END:VCALENDAR
