BEGIN:VCALENDAR
VERSION:2.0
PRODID:-//ChamberMaster//Event Calendar 2.0//EN
METHOD:PUBLISH
X-PUBLISHED-TTL:P3D
REFRESH-INTERVAL:P3D
CALSCALE:GREGORIAN
BEGIN:VEVENT
DTSTART;VALUE=DATE:20230101
DTEND;VALUE=DATE:20230401
TRANSP:TRANSPARENT
X-MICROSOFT-CDO-ALLDAYEVENT:TRUE
SUMMARY:Southern Coos Hospital & Health Center Quarterly Art Show
DESCRIPTION:Every three months\, Southern Coos Hospital & Health Center mounts an art show in the hallways of our hospital. Artists from Bandon and the southern Oregon coast submit work based on a central theme.\n\n\n\nThis quarter's Quarterly Art Show theme is "The Four Seasons." \n\n\n\nShow runs January through March 2023.
X-ALT-DESC;FMTTYPE=text/html:<p><br />\n<span style="font-size:18px\;"><span style="font-family:verdana\;"><span style="color: rgb(27\, 32\, 47)\;">Every three months\, Southern Coos Hospital &amp\; Health Center mounts an art show in the hallways of our hospital. Artists from Bandon and the southern Oregon coast submit work based on a central theme.</span><br />\n<br />\nThis quarter&#39\;s Quarterly Art Show theme is &quot\;The Four Seasons.&quot\;&nbsp\;<br />\n<br />\nShow&nbsp\;<span style="color: var(--h2_typography-color)\; font-weight: var(--h2_typography-font-weight)\; text-align: center\;">runs January through March 2023.</span></span></span></p>\n
LOCATION:Southern Coos Hospital & Health Center\, 900 11th St SE\, Bandon\, OR
UID:e.2504.4770
SEQUENCE:3
DTSTAMP:20260419T135908Z
URL:https://directory.bandon.com/events/details/southern-coos-hospital-health-center-quarterly-art-show-4770
END:VEVENT

END:VCALENDAR
