BEGIN:VCALENDAR
VERSION:2.0
PRODID:-//ChamberMaster//Event Calendar 2.0//EN
METHOD:PUBLISH
X-PUBLISHED-TTL:P3D
REFRESH-INTERVAL:P3D
CALSCALE:GREGORIAN
BEGIN:VEVENT
DTSTART;VALUE=DATE:20260605
DTEND;VALUE=DATE:20260906
TRANSP:TRANSPARENT
X-MICROSOFT-CDO-ALLDAYEVENT:TRUE
SUMMARY:Sawdust Theatre Presents "Calamity at the Coquelle Creamery
DESCRIPTION:"Calamity at the Coquelle Creamery" or "Udder Confusion" is set on a dairy farm in the lovely Coquelle Valley\, where the evil villain Franklin Basher "that terrible masher!" works his wiles against heroine Henrietta Holstein and her hero\, Ferdinand Farinsworth. Will hero foil Franklin's dastardly paln? Will Henrietta knit one\, purl two until her dreams come true?\n\n\n\nThe play was written by Cindy Robnett\, Diana Amling\, and Gael Berhow. It originally premiered at the theatre in 1989 and again in 2001.\n\n\n\nSummer Show Schedule:\n\nFriday\, June 5 (Benefit Show) 7pm\n\nSaturday\, June 6 7pm\n\nSaturday\, June 13 7pm\n\nSaturday\, June 20 7pm\n\nSaturday\, June 27 7pm\n\nSunday\, June 28 2pm\n\nSaturday\, July 11 7pm\n\nSunday\, July 12 2pm\n\nSunday\, July 18 7pm\n\nSaturday\, July 25 7pm\n\nSunday\, July 26 2pm\n\nSaturday\, August 1 7pm\n\nSaturday\, August 8 7pm\n\nSunday\, August 9 2pm\n\nSaturday\, August 15 7pm\n\nSaturday\, August 22 7pm\n\nSaturday\, August 29 7pm\n\nSunday\, August 30 2pm\n\nFriday\, September 4 7pm\n\nSaturday\, September 5 (Closing Show) 7pm
X-ALT-DESC;FMTTYPE=text/html:<br />\n&ldquo\;Calamity at the Coquelle Creamery&rdquo\; or &ldquo\;Udder Confusion&rdquo\;&nbsp\;is set on a dairy farm in the lovely Coquelle Valley\, where the evil villain Franklin Basher &ldquo\;that terrible masher!&rdquo\; works his wiles against heroine Henrietta Holstein and her hero\, Ferdinand Farinsworth. Will hero foil Franklin&rsquo\;s dastardly paln? Will Henrietta knit one\, purl two until her dreams come true?<br />\n<br />\nThe play was written by Cindy Robnett\, Diana Amling\, and Gael Berhow. It originally premiered at the theatre in 1989 and again in 2001.<br />\n<br />\n<strong>Summer Show Schedule:</strong><br />\nFriday\, June 5 (Benefit Show) 7pm<br />\nSaturday\, June 6 7pm<br />\nSaturday\, June 13 7pm<br />\nSaturday\, June 20 7pm<br />\nSaturday\, June 27 7pm<br />\nSunday\, June 28 2pm<br />\nSaturday\, July 11 7pm<br />\nSunday\, July 12 2pm<br />\nSunday\, July 18 7pm<br />\nSaturday\, July 25 7pm<br />\nSunday\, July 26 2pm<br />\nSaturday\, August 1 7pm<br />\nSaturday\, August 8 7pm<br />\nSunday\, August 9 2pm<br />\nSaturday\, August 15 7pm<br />\nSaturday\, August 22 7pm<br />\nSaturday\, August 29 7pm<br />\nSunday\, August 30 2pm<br />\nFriday\, September 4 7pm<br />\nSaturday\, September 5 (Closing Show) 7pm
LOCATION:Sawdust Theatre
UID:e.2504.6148
SEQUENCE:3
DTSTAMP:20260421T134631Z
URL:https://directory.bandon.com/events/details/sawdust-theatre-presents-calamity-at-the-coquelle-creamery-6148
END:VEVENT

END:VCALENDAR
