BEGIN:VCALENDAR
VERSION:2.0
PRODID:-//ChamberMaster//Event Calendar 2.0//EN
METHOD:PUBLISH
X-PUBLISHED-TTL:P3D
REFRESH-INTERVAL:P3D
CALSCALE:GREGORIAN
BEGIN:VEVENT
DTSTART:20250128T020000Z
DTEND:20250128T043000Z
X-MICROSOFT-CDO-ALLDAYEVENT:FALSE
SUMMARY:Sawdust Theatre OLIO Auditions for the 2025 Season
DESCRIPTION:The Sawdust Theatre is preparing for its 2025 season and has scheduled its annual Season Auditions for its summer melodrama The 2025 melodrama will be titled "Recipe for Disaster" or "Camilla's Culinary Quandary" was written by Cindy Robnett and Edna Cotner. It originally premiered at the theatre in 2008. Auditions for the cast will begin at 2 p.m. on Sunday\, January 26 and at 6:30 p.m. on Monday\, January 27. Auditions for the OLIO performers will begin at 7 p.m. on Tuesday\, January 28. All auditions will be held at the theatre\, located at 120 N. Adams St.\, Coquille. The play will be double cast\, so each character will have two actors/actresses ready for each performance. Nancy Wilson\, the play's director\, is looking for 10 men and 10 women over age 16 to fill the roles. The melodrama revolves around local philanthropist\, Camilla Reitman and her family. Will Eugenia & Henry Lorenz find a suitable suitor for their daughter\, Camilla? Or\, will Camilla's cooking be a recipe for disaster and cost her the affections of the right man (our hero\, Carl Rightman)? Will the villainous Leopold Lecher and his lackeys follow through with their "gold"en opportunity and continue their chaos? All these questions\, and more\, are answered on stage at the Sawdust Theatre this summer!
X-ALT-DESC;FMTTYPE=text/html:The Sawdust Theatre is preparing for its 2025 season and has scheduled its annual Season Auditions for its summer melodrama The 2025 melodrama will be titled &ldquo\;Recipe for Disaster&rdquo\; or &ldquo\;Camilla&#39\;s Culinary Quandary&rdquo\; was written by Cindy Robnett and Edna Cotner. It originally premiered at the theatre in 2008. Auditions for the cast will begin at 2 p.m. on Sunday\, January 26 and at 6:30 p.m. on Monday\, January 27. Auditions for the OLIO performers will begin at 7 p.m. on Tuesday\, January 28. All auditions will be held at the theatre\, located at 120 N. Adams St.\, Coquille. The play will be double cast\, so each character will have two actors/actresses ready for each performance. Nancy Wilson\, the play&rsquo\;s director\, is looking for 10 men and 10 women over age 16 to fill the roles. The melodrama revolves around local philanthropist\, Camilla Reitman and her family. Will Eugenia &amp\; Henry Lorenz find a suitable suitor for their daughter\, Camilla? Or\, will Camilla&#39\;s cooking be a recipe for disaster and cost her the affections of the right man (our hero\, Carl Rightman)? Will the villainous Leopold Lecher and his lackeys follow through with their &ldquo\;gold&rdquo\;en opportunity and continue their chaos? All these questions\, and more\, are answered on stage at the Sawdust Theatre this summer!
LOCATION:Sawdust Theatre\, 120 N Adams St.\, Coquille\, OR 97423
UID:e.2504.5924
SEQUENCE:3
DTSTAMP:20260421T102813Z
URL:https://directory.bandon.com/events/details/sawdust-theatre-olio-auditions-for-the-2025-season-5924
END:VEVENT

END:VCALENDAR
