BEGIN:VCALENDAR
VERSION:2.0
PRODID:-//ChamberMaster//Event Calendar 2.0//EN
METHOD:PUBLISH
X-PUBLISHED-TTL:P3D
REFRESH-INTERVAL:P3D
CALSCALE:GREGORIAN
BEGIN:VEVENT
DTSTART:20260201T033000Z
DTEND:20260201T060000Z
X-MICROSOFT-CDO-ALLDAYEVENT:FALSE
SUMMARY:Sawdust Theatre Kick-Off/Open House
DESCRIPTION:Kick Off/Open house on Saturday\, January 31 at 7pm.\n\n\n\nThis is open to all and is a very good time to get a tour of the Theatre and to talk to some of our Directors about volunteer opportunities.
X-ALT-DESC;FMTTYPE=text/html:<br />\nKick Off/Open house on Saturday\, January 31 at 7pm.<br />\n<br />\nThis is open to all and is a very good time to get a tour of the Theatre and to talk to some of our Directors about volunteer opportunities.
LOCATION:Sawdust Theatre
UID:e.2504.6144
SEQUENCE:3
DTSTAMP:20260421T204630Z
URL:https://directory.bandon.com/events/details/sawdust-theatre-kick-off-open-house-6144
END:VEVENT

END:VCALENDAR
