BEGIN:VCALENDAR
VERSION:2.0
PRODID:-//ChamberMaster//Event Calendar 2.0//EN
METHOD:PUBLISH
X-PUBLISHED-TTL:P3D
REFRESH-INTERVAL:P3D
CALSCALE:GREGORIAN
BEGIN:VEVENT
DTSTART:20230315T190000Z
DTEND:20230315T200000Z
X-MICROSOFT-CDO-ALLDAYEVENT:FALSE
SUMMARY:ODOT Community Charging Rebates Information Session
DESCRIPTION:Join us for the Oregon Department of Transportation Community Charging Rebates Information Session! EV charging rebates will be available for public and private entities for the purchase\, installation\, and maintenance of Level 2 charging in Oregon communities. Sign up for upcoming info sessions here https://forthmobility.org/Community%20Charging%20Rebate.
X-ALT-DESC;FMTTYPE=text/html:Join us for the Oregon Department of Transportation Community Charging Rebates Information Session! EV charging rebates will be available for public and private entities for the purchase\, installation\, and maintenance of Level 2 charging in Oregon communities. Sign up for upcoming info sessions here https://forthmobility.org/Community%20Charging%20Rebate.
LOCATION:Virtual
UID:e.2504.4945
SEQUENCE:3
DTSTAMP:20260419T135642Z
URL:https://directory.bandon.com/events/details/odot-community-charging-rebates-information-session-4945
END:VEVENT

END:VCALENDAR
