BEGIN:VCALENDAR
VERSION:2.0
PRODID:-//ChamberMaster//Event Calendar 2.0//EN
METHOD:PUBLISH
X-PUBLISHED-TTL:P3D
REFRESH-INTERVAL:P3D
CALSCALE:GREGORIAN
BEGIN:VEVENT
DTSTART;VALUE=DATE:20270613
DTEND;VALUE=DATE:20270614
TRANSP:TRANSPARENT
X-MICROSOFT-CDO-ALLDAYEVENT:TRUE
SUMMARY:National Knitting in Public Day
DESCRIPTION:Join us for a fun day of Knitting\, Crocheting\, and Spinning!\n\n\n\nKnitting in Public Day is a National Day celebrating the craft of Knitting. We are a small community\, so we open it up to Crocheters and Spinners as well.\n\n\n\nWe will have a variety of fiber demos as well as door prizes\, FREE patterns\, Food and Fun with like minded people. We will also have a few vendors with their locally made items to sell.
X-ALT-DESC;FMTTYPE=text/html:&nbsp\;\n<div style="text-align: justify\;">Join us for a fun day of Knitting\, Crocheting\, and Spinning!<br />\n<br />\nKnitting in Public Day is a National Day celebrating the craft of Knitting. We are a small community\, so we open it up to Crocheters and Spinners as well.<br />\n<br />\nWe will have a variety of fiber demos as well as door prizes\, FREE patterns\, Food and Fun with like minded people. We will also have a few vendors with their locally made items to sell.</div>\n
LOCATION:The Wool Company Back Lawn
UID:e.2504.6125
SEQUENCE:3
DTSTAMP:20260422T150954Z
URL:https://directory.bandon.com/events/details/national-knitting-in-public-day-06-13-2027-6125
END:VEVENT

END:VCALENDAR
