BEGIN:VCALENDAR
VERSION:2.0
PRODID:-//ChamberMaster//Event Calendar 2.0//EN
METHOD:PUBLISH
X-PUBLISHED-TTL:P3D
REFRESH-INTERVAL:P3D
CALSCALE:GREGORIAN
BEGIN:VEVENT
DTSTART:20261107T030000Z
DTEND:20261107T050000Z
X-MICROSOFT-CDO-ALLDAYEVENT:FALSE
SUMMARY:Movie Night: To Catch a Thief
DESCRIPTION:Cary Grant and Grace Kelly star in the 1955 Alfred Hitchcock triller about retired jewel thief who risks arrest  unless he can trap the copycat burglar on a stealing spree on the French Riviera.\n\n\n\nThe cast also stars Jessie Royce Landis\, Brigitte Auber and Charles Vanel. The movie is rated PG\, 1 hour and 43 minutes.\n\n\n\nShow time is 7 p.m. on Friday\, Nov. 6\, at the Sprague Community Theater. Admission is $5. Concessions are also available for purchase.
X-ALT-DESC;FMTTYPE=text/html:<p><br />\nCary Grant and Grace Kelly star in the 1955 Alfred Hitchcock triller about retired jewel thief who risks arrest&ndash\; unless he can trap the copycat burglar on a stealing spree on the French Riviera.<br />\n<br />\nThe cast also stars Jessie Royce Landis\, Brigitte Auber and Charles Vanel. The movie is rated PG\, 1 hour and 43 minutes.<br />\n<br />\nShow time is 7 p.m. on Friday\, Nov. 6\, at the Sprague Community Theater. Admission is $5. Concessions are also available for purchase.</p>\n
LOCATION:Sprague Community Theater
UID:e.2504.6168
SEQUENCE:3
DTSTAMP:20260422T030538Z
URL:https://directory.bandon.com/events/details/movie-night-to-catch-a-thief-6168
END:VEVENT

END:VCALENDAR
