BEGIN:VCALENDAR
VERSION:2.0
PRODID:-//ChamberMaster//Event Calendar 2.0//EN
METHOD:PUBLISH
X-PUBLISHED-TTL:P3D
REFRESH-INTERVAL:P3D
CALSCALE:GREGORIAN
BEGIN:VEVENT
DTSTART:20260117T030000Z
DTEND:20260117T050000Z
X-MICROSOFT-CDO-ALLDAYEVENT:FALSE
SUMMARY:Movie Night: Singin' in the Rain
DESCRIPTION:One of the most enduring movie musicals  Musician Don Lockwood rises to stardom during Hollywood's silent-movie era\, paired with co-star Lina Lamont\, and would-be star Kathy Selden. Set in the early days of "talkies\," this film's classic song-and-dance numbers celebrate the dawn of movie musicals.\n\nThe "Singin' in the Rain" cast includes Gene Kelly\, Donald O'Connor\, Debbie Reynolds\, Jean Hagen and Millard Mitchell\, directed by Stanley Donen. The film is rated G. Run time is 1 hour\, 43 minutes.\n\nShow time is 7 p.m. on Friday\, Jan. 16\, at the Sprague Community Theater. Admission is $5. Concessions are also available for purchase.
X-ALT-DESC;FMTTYPE=text/html:<p><br />\n&nbsp\;</p>\n\n<p><span class="cf0">One of the most enduring movie musicals</span><span class="cf1">&ndash\; Musician Don Lockwood rises to stardom during Hollywood&rsquo\;s silent-movie era\, paired with co-star Lina Lamont\, and would-be star Kathy Selden. Set in the early days of &ldquo\;talkies\,&rdquo\; this film&rsquo\;s classic song-and-dance numbers celebrate the dawn of movie musicals.</span></p>\n\n<p><span class="cf1">The &ldquo\;Singin&rsquo\; in the Rain&rdquo\; cast includes Gene Kelly\, Donald O&rsquo\;Connor\, Debbie Reynolds\, Jean Hagen and Millard Mitchell\, directed by Stanley </span><span class="cf1">Donen</span><span class="cf1">. The film is rated G. Run time is 1 hour\, 43 minutes.</span></p>\n\n<p><span class="cf1">Show time is 7 p.m. on Friday\, Jan. 16\, at the Sprague Community Theater. Admission is $5. Concessions are also available for purchase.</span></p>\n
LOCATION:Sprague Community Theater
UID:e.2504.6151
SEQUENCE:3
DTSTAMP:20260421T161025Z
URL:https://directory.bandon.com/events/details/movie-night-singin-in-the-rain-6151
END:VEVENT

END:VCALENDAR
