BEGIN:VCALENDAR
VERSION:2.0
PRODID:-//ChamberMaster//Event Calendar 2.0//EN
METHOD:PUBLISH
X-PUBLISHED-TTL:P3D
REFRESH-INTERVAL:P3D
CALSCALE:GREGORIAN
BEGIN:VEVENT
DTSTART:20260214T030000Z
DTEND:20260214T050000Z
X-MICROSOFT-CDO-ALLDAYEVENT:FALSE
SUMMARY:Movie Night: Shrek
DESCRIPTION:Ogre Shrek's solitary life is upended when a group of fairy tale character refugees set up camp in his backyard. Shrek decides to rescue Princess Fiona in exchange for peace and quiet in his swamp.\n\nThis animated 2001 comedy stars voice actors Mike Myers\, Eddie Murphy\, Cameron Diaz\, John Lithgow and Vincent Cassel\, directed by Vicky Jenson. The movie is rated PG\, 1 hour and 30 minutes.\n\nShow time is 7 p.m. on Friday\, Feb. 13\, at the Sprague Community Theater. Admission is $5. Concessions are also available for purchase.
X-ALT-DESC;FMTTYPE=text/html:<p><br />\n<span class="cf0">Ogre Shrek&rsquo\;s solitary life is upended when a group of fairy tale character refugees set up camp in his backyard. Shrek decides to rescue Princess Fiona in exchange for peace and quiet in his swamp.</span></p>\n\n<p class="pf0"><span class="cf0">This animated 2001 comedy stars voice actors Mike Myers\, Eddie Murphy\, Cameron Diaz\, John Lithgow and Vincent Cassel\, directed by Vicky Jenson. The movie is rated PG\, 1 hour and 30 minutes.</span></p>\n\n<p class="pf0"><span class="cf0">Show time is 7 p.m. on Friday\, Feb. 13\, at the Sprague Community Theater. Admission is $5. Concessions are also available for purchase.</span></p>\n
LOCATION:Sprague Community Theater
UID:e.2504.6154
SEQUENCE:3
DTSTAMP:20260421T145120Z
URL:https://directory.bandon.com/events/details/movie-night-shrek-6154
END:VEVENT

END:VCALENDAR
