BEGIN:VCALENDAR
VERSION:2.0
PRODID:-//ChamberMaster//Event Calendar 2.0//EN
METHOD:PUBLISH
X-PUBLISHED-TTL:P3D
REFRESH-INTERVAL:P3D
CALSCALE:GREGORIAN
BEGIN:VEVENT
DTSTART:20260822T020000Z
DTEND:20260822T040000Z
X-MICROSOFT-CDO-ALLDAYEVENT:FALSE
SUMMARY:Movie Night: Raiders of the Lost Ark
DESCRIPTION:It's 1936\, and archaeologist Indiana Jones is in a race to locate the Arc of the Covenant  an historic treasure said to make those who possess it invincible.\n\n\n\n"Raiders of the Lost Ark" stars Harrison Ford\, Karen Allen\, Paul Freeman\, Wolf Kahler and Ronald Lacey\, directed by Steven Spielberg. The film is rated PG\, 1 hour and 55 minutes.\n\n\n\nThis 45th anniversary movie showing starts at 7 p.m. on Friday\, Aug. 21\, at the Sprague Community Theater. Admission is $5. Concessions are also available for purchase.
X-ALT-DESC;FMTTYPE=text/html:<p><br />\nIt&rsquo\;s 1936\, and archaeologist Indiana Jones is in a race to locate the Arc of the Covenant&ndash\; an historic treasure said to make those who possess it invincible.<br />\n<br />\n&ldquo\;Raiders of the Lost Ark&rdquo\; stars Harrison Ford\, Karen Allen\, Paul Freeman\, Wolf Kahler and Ronald Lacey\, directed by Steven Spielberg. The film is rated PG\, 1 hour and 55 minutes.<br />\n<br />\nThis 45th anniversary movie showing starts at 7 p.m. on Friday\, Aug. 21\, at the Sprague Community Theater. Admission is $5. Concessions are also available for purchase.</p>\n
LOCATION:Sprague Community Theater
UID:e.2504.6165
SEQUENCE:3
DTSTAMP:20260421T221815Z
URL:https://directory.bandon.com/events/details/movie-night-raiders-of-the-lost-ark-6165
END:VEVENT

END:VCALENDAR
