BEGIN:VCALENDAR
VERSION:2.0
PRODID:-//ChamberMaster//Event Calendar 2.0//EN
METHOD:PUBLISH
X-PUBLISHED-TTL:P3D
REFRESH-INTERVAL:P3D
CALSCALE:GREGORIAN
BEGIN:VEVENT
DTSTART:20260620T020000Z
DTEND:20260620T040000Z
X-MICROSOFT-CDO-ALLDAYEVENT:FALSE
SUMMARY:Movie Night: Near Myth: The Oskar Knight Story
DESCRIPTION:Written and directed by Scott Fivelson\, this fictional biopic takes a humorous and heartwarming look at the life of a revered\, but little known\, movie director Oskar Knight\, played by Lenny Von Dohlen ("Twin Peaks\," "Electric Dreams\," "Tender Mercies"). The movie is 1 hour\, 35 minutes.\n\n\n\nThe cast includes Academy Award winner Margaret O'Brien\, International Emmy winner David Suchet\, Joaquim de Almeida\, Julianna Guill\, Rudolf Martin\, Lawrence Pressman\, Kristina Anapau\, Jon Provost\, Noel Neill\, and many more.\n\n\n\nShow time is 7 p.m. on Friday\, June 19\, at the Sprague Community Theater. Admission is $5. Concessions also available for purchase.
X-ALT-DESC;FMTTYPE=text/html:<p><br />\nWritten and directed by Scott Fivelson\, this fictional biopic takes a humorous and heartwarming look at the life of a revered\, but little known\, movie director Oskar Knight\, played by Lenny Von Dohlen (&ldquo\;Twin Peaks\,&rdquo\; &ldquo\;Electric Dreams\,&rdquo\; &ldquo\;Tender Mercies&rdquo\;). The movie is 1 hour\, 35 minutes.<br />\n<br />\nThe cast includes Academy Award winner Margaret O&rsquo\;Brien\, International Emmy winner David Suchet\, Joaquim de Almeida\, Julianna Guill\, Rudolf Martin\, Lawrence Pressman\, Kristina Anapau\, Jon Provost\, Noel Neill\, and many more.<br />\n<br />\nShow time is 7 p.m. on Friday\, June 19\, at the Sprague Community Theater. Admission is $5. Concessions also available for purchase.</p>\n
LOCATION:Sprague Community Theater
UID:e.2504.6164
SEQUENCE:3
DTSTAMP:20260421T123225Z
URL:https://directory.bandon.com/events/details/movie-night-near-myth-the-oskar-knight-story-6164
END:VEVENT

END:VCALENDAR
