BEGIN:VCALENDAR
VERSION:2.0
PRODID:-//ChamberMaster//Event Calendar 2.0//EN
METHOD:PUBLISH
X-PUBLISHED-TTL:P3D
REFRESH-INTERVAL:P3D
CALSCALE:GREGORIAN
BEGIN:VEVENT
DTSTART:20261017T020000Z
DTEND:20261017T040000Z
X-MICROSOFT-CDO-ALLDAYEVENT:FALSE
SUMMARY:Movie Night: Monsters\, Inc.
DESCRIPTION:A little girl accidentally enters the land of monsters\, where she befriends two creatures who work at a "scare factory." Billy Crystal and John Goodman lend their voices to this animated comedy from the creators of "Toy Story."\n\n\n\nAdditional voice actors include Mary Gibbs\, Steve Buscemi and James Coburn\, directed by Pete Docter. The movie is rated G\, 1 hour and 32 minutes.\n\n\n\nThis 25th anniversary movies showing starts at 7 p.m. on Friday\, Oct. 16\, at the Sprague Community Theater. Admission is $5. Concessions are also available for purchase.
X-ALT-DESC;FMTTYPE=text/html:<p><br />\nA little girl accidentally enters the land of monsters\, where she befriends two creatures who work at a &ldquo\;scare factory.&rdquo\; Billy Crystal and John Goodman lend their voices to this animated comedy from the creators of &ldquo\;Toy Story.&rdquo\;<br />\n<br />\nAdditional voice actors include Mary Gibbs\, Steve Buscemi and James Coburn\, directed by Pete Docter. The movie is rated G\, 1 hour and 32 minutes.<br />\n<br />\nThis 25th anniversary movies showing starts at 7 p.m. on Friday\, Oct. 16\, at the Sprague Community Theater. Admission is $5. Concessions are also available for purchase.</p>\n
LOCATION:Sprague Community Theater
UID:e.2504.6167
SEQUENCE:3
DTSTAMP:20260420T065335Z
URL:https://directory.bandon.com/events/details/movie-night-monsters-inc-6167
END:VEVENT

END:VCALENDAR
