BEGIN:VCALENDAR
VERSION:2.0
PRODID:-//ChamberMaster//Event Calendar 2.0//EN
METHOD:PUBLISH
X-PUBLISHED-TTL:P3D
REFRESH-INTERVAL:P3D
CALSCALE:GREGORIAN
BEGIN:VEVENT
DTSTART:20260110T030000Z
DTEND:20260110T050000Z
X-MICROSOFT-CDO-ALLDAYEVENT:FALSE
SUMMARY:Movie Night: Labyrinth
DESCRIPTION:Follow Sarah as she searches for her missing brother in the mysterious and magical "Labyrinth."\n\n\n\nDirector Jim Henson's 1986 fantasy film stars David Bowie\, Jennifer Connelly\, Toby Froud\, Shelley Thompson\, and Christopher Malcolm. The movie is rated PG\, 1 hour and 41 minutes.\n\n\n\nThis 40th anniversary showing of "Labyrinth" starts at 7 p.m. on Friday\, Jan. 9\, at the Sprague Community Theater. Admission is $5. Concessions also available for purchase.
X-ALT-DESC;FMTTYPE=text/html:<p><br />\nFollow Sarah as she searches for her missing brother in the mysterious and magical &ldquo\;Labyrinth.&rdquo\;<br />\n<br />\nDirector Jim Henson&rsquo\;s 1986 fantasy film stars David Bowie\, Jennifer Connelly\, Toby Froud\, Shelley Thompson\, and Christopher Malcolm. The movie is rated PG\, 1 hour and 41 minutes.<br />\n<br />\nThis 40th anniversary showing of &ldquo\;Labyrinth&rdquo\; starts at 7 p.m. on Friday\, Jan. 9\, at the Sprague Community Theater. Admission is $5. Concessions also available for purchase.</p>\n
LOCATION:Sprague Community Theater
UID:e.2504.6150
SEQUENCE:3
DTSTAMP:20260421T161839Z
URL:https://directory.bandon.com/events/details/movie-night-labyrinth-6150
END:VEVENT

END:VCALENDAR
