BEGIN:VCALENDAR
VERSION:2.0
PRODID:-//ChamberMaster//Event Calendar 2.0//EN
METHOD:PUBLISH
X-PUBLISHED-TTL:P3D
REFRESH-INTERVAL:P3D
CALSCALE:GREGORIAN
BEGIN:VEVENT
DTSTART:20260523T020000Z
DTEND:20260523T040000Z
X-MICROSOFT-CDO-ALLDAYEVENT:FALSE
SUMMARY:Movie Night: George of the Jungle
DESCRIPTION:Brendan Fraser plays George in the Disney live-action version of the TV classic about a bumbling jungle man who falls for an heiress after saving her life.\n\n\n\nStay after the movie for a talk-back session with stage and screen actor Nameer El-Kadi\, whose many credits include the role of "Ape Suit Performer" in "George of the Jungle."\n\n\n\nThe movie also features Leslie Mann\, Thomas Haden Church\, Richard Roundtree and John Cleese\, directed by Sam Weisman. The movie is rated PG\, 1 hour and 32 minutes.\n\n\n\nShow time is 7 p.m. on Friday\, May 22\, at the Sprague Community Theater. Admission is $5. Concessions are also available for purchase.
X-ALT-DESC;FMTTYPE=text/html:<p><br />\nBrendan Fraser plays George in the Disney live-action version of the TV classic about a bumbling jungle man who falls for an heiress after saving her life.<br />\n<br />\nStay after the movie for a talk-back session with stage and screen actor Nameer El-Kadi\, whose many credits include the role of &ldquo\;Ape Suit Performer&rdquo\; in &ldquo\;George of the Jungle.&rdquo\;<br />\n<br />\nThe movie also features Leslie Mann\, Thomas Haden Church\, Richard Roundtree and John Cleese\, directed by Sam Weisman. The movie is rated PG\, 1 hour and 32 minutes.<br />\n<br />\nShow time is 7 p.m. on Friday\, May 22\, at the Sprague Community Theater. Admission is $5. Concessions are also available for purchase.</p>\n
LOCATION:Sprague Community Theater
UID:e.2504.6163
SEQUENCE:3
DTSTAMP:20260421T132318Z
URL:https://directory.bandon.com/events/details/movie-night-george-of-the-jungle-6163
END:VEVENT

END:VCALENDAR
