BEGIN:VCALENDAR
VERSION:2.0
PRODID:-//ChamberMaster//Event Calendar 2.0//EN
METHOD:PUBLISH
X-PUBLISHED-TTL:P3D
REFRESH-INTERVAL:P3D
CALSCALE:GREGORIAN
BEGIN:VEVENT
DTSTART:20260314T020000Z
DTEND:20260314T040000Z
X-MICROSOFT-CDO-ALLDAYEVENT:FALSE
SUMMARY:Movie Night: Free Willy
DESCRIPTION:"Free Willy" is a heartwarming family drama about a young boy's touching friendship with an Orca whale who is the star attraction at his local adventure park.\n\nThe movie stars Jason James Richter\, Lori Petty\, Jayne Atkinson\, August Schellenberg and Michael Madsen\, directed by Simon Wincer. The movie is rated PG\, 1 hour and 52 minutes.\n\nShow time is 7 p.m. on Friday\, March 13\, at the Sprague Community Theater. Admission is $5. Concessions are also available for purchase.
X-ALT-DESC;FMTTYPE=text/html:<p><br />\n<span class="cf0">&ldquo\;Free Willy&rdquo\; is a heartwarming family drama about a young boy&rsquo\;s touching friendship with an Orca whale who is the star attraction at his local adventure park.</span></p>\n\n<p><span class="cf0">The movie stars Jason James Richter\, Lori Petty\, Jayne Atkinson\, August Schellenberg and Michael Madsen\, directed by Simon Wincer. The movie is rated PG\, 1 hour and 52 minutes.</span></p>\n\n<p><span class="cf0">Show time is 7 p.m. on Friday\, March 13\, at the Sprague Community Theater. Admission is $5. Concessions are also available for purchase.</span></p>\n
LOCATION:Sprague Community Theater
UID:e.2504.6155
SEQUENCE:3
DTSTAMP:20260421T120629Z
URL:https://directory.bandon.com/events/details/movie-night-free-willy-6155
END:VEVENT

END:VCALENDAR
