BEGIN:VCALENDAR
VERSION:2.0
PRODID:-//ChamberMaster//Event Calendar 2.0//EN
METHOD:PUBLISH
X-PUBLISHED-TTL:P3D
REFRESH-INTERVAL:P3D
CALSCALE:GREGORIAN
BEGIN:VEVENT
DTSTART:20260919T020000Z
DTEND:20260919T040000Z
X-MICROSOFT-CDO-ALLDAYEVENT:FALSE
SUMMARY:Movie Night: Footloose
DESCRIPTION:Kevin Bacon stars in the coming of age story about a teen determined to stage a high school prom in a town where dancing is banned.\n\n\n\n"Footloose" also stars Lori Singer\, John Lithgow\, Dianne Wiest and Christopher Penn\, directed by Herbert Ross. The movie is rated PG\, 1 hour and 47 minutes.\n\n\n\nShow time is 7 p.m. on Friday\, Sept. 18\, at the Sprague Community Theater. Admission is $5. Concessions are also available for purchase.
X-ALT-DESC;FMTTYPE=text/html:<p><br />\nKevin Bacon stars in the coming of age story about a teen determined to stage a high school prom in a town where dancing is banned.<br />\n<br />\n&ldquo\;Footloose&rdquo\; also stars Lori Singer\, John Lithgow\, Dianne Wiest and Christopher Penn\, directed by Herbert Ross. The movie is rated PG\, 1 hour and 47 minutes.<br />\n<br />\nShow time is 7 p.m. on Friday\, Sept. 18\, at the Sprague Community Theater. Admission is $5. Concessions are also available for purchase.</p>\n
LOCATION:Sprague Community Theater
UID:e.2504.6166
SEQUENCE:3
DTSTAMP:20260421T235753Z
URL:https://directory.bandon.com/events/details/movie-night-footloose-6166
END:VEVENT

END:VCALENDAR
