BEGIN:VCALENDAR
VERSION:2.0
PRODID:-//ChamberMaster//Event Calendar 2.0//EN
METHOD:PUBLISH
X-PUBLISHED-TTL:P3D
REFRESH-INTERVAL:P3D
CALSCALE:GREGORIAN
BEGIN:VEVENT
DTSTART:20260124T030000Z
DTEND:20260124T050000Z
X-MICROSOFT-CDO-ALLDAYEVENT:FALSE
SUMMARY:Movie Night: All the President's Men
DESCRIPTION:Academy Award winners Robert Redford and Dustin Hoffman star in the true story of "Washington Post" news reporters Carl Bernstein and Bob Woodward\, whose investigation of a seemingly minor hotel room break-in uncovered one of the greatest political scandal in United States history involving President Richard Nixon.\n\n"All the President's Men" also stars Jason Robards\, Jack Warden and Martin Balsam\, directed by Alan J. Pakula. The movie is rated PG\, 2 hours and 18 minutes.\n\nThis 50th anniversary showing of "All the President's Men" starts at 7 p.m. on Friday\, Jan. 23\, at the Sprague Community Theater. Admission is $5. Concessions are also available for purchase.
X-ALT-DESC;FMTTYPE=text/html:<p><span class="cf0">Academy Award winners Robert Redford and Dustin Hoffman star in the true story of &ldquo\;Washington Post&rdquo\; news reporters Carl Bernstein and Bob Woodward\, whose investigation of a seemingly minor hotel room break-in uncovered one of the greatest political scandal in United States history involving President Richard Nixon.</span></p>\n\n<p><span class="cf0">&ldquo\;All the President&rsquo\;s Men&rdquo\; also stars Jason Robards\, Jack Warden and Martin Balsam\, directed by Alan J. </span><span class="cf0">Pakula</span><span class="cf0">. The movie is rated PG\, 2 hours and 18 minutes.</span></p>\n\n<p><span class="cf0">This 50th anniversary showing of &ldquo\;All the President&rsquo\;s Men&rdquo\; starts at 7 p.m. on Friday\, Jan. 23\, at the Sprague Community Theater. Admission is $5. Concessions are also available for purchase.</span></p>\n
LOCATION:Sprague Community Theater
UID:e.2504.6152
SEQUENCE:3
DTSTAMP:20260421T160953Z
URL:https://directory.bandon.com/events/details/movie-night-all-the-president-s-men-6152
END:VEVENT

END:VCALENDAR
