BEGIN:VCALENDAR
VERSION:2.0
PRODID:-//ChamberMaster//Event Calendar 2.0//EN
METHOD:PUBLISH
X-PUBLISHED-TTL:P3D
REFRESH-INTERVAL:P3D
CALSCALE:GREGORIAN
BEGIN:VEVENT
DTSTART:20251213T180000Z
DTEND:20251213T200000Z
X-MICROSOFT-CDO-ALLDAYEVENT:FALSE
SUMMARY:Mac's Run
DESCRIPTION:5K and 10K\n\n\n\nThis hilly and challenging course is at Sunset Bay State Park in Charleston\, Oregon. The race is entirely on paved roads and comes with breathtaking ocean views. For both courses\, runners loop through Shore Acres heading out (south)\, and run straight back on the return (north).\n\n\n\nPacket pickup is at the yurt near the southern-most parking lot at Sunset Bay.
X-ALT-DESC;FMTTYPE=text/html:<br />\n<br />\n5K and 10K<br />\n<br />\nThis hilly and challenging course is at Sunset Bay State Park in Charleston\, Oregon. The race is entirely on paved roads and comes with&nbsp\;breathtaking ocean views.&nbsp\;For both courses\, runners loop through Shore Acres heading out (south)\, and run straight back on the return (north).<br />\n<br />\nPacket pickup is at the yurt near the southern-most parking lot at Sunset Bay.
LOCATION:Sunset Bay State Park\, Charleston\, Oregon
UID:e.2504.6045
SEQUENCE:3
DTSTAMP:20260419T184759Z
URL:https://directory.bandon.com/events/details/mac-s-run-6045
END:VEVENT

END:VCALENDAR
