BEGIN:VCALENDAR
VERSION:2.0
PRODID:-//ChamberMaster//Event Calendar 2.0//EN
METHOD:PUBLISH
X-PUBLISHED-TTL:P3D
REFRESH-INTERVAL:P3D
CALSCALE:GREGORIAN
BEGIN:VEVENT
DTSTART:20230318T180000Z
DTEND:20230319T220000Z
X-MICROSOFT-CDO-ALLDAYEVENT:FALSE
SUMMARY:Langlois Artisan Market - bloom edition!
DESCRIPTION:The Langlois Artisan Market - Bloom edition is happening soon! Mark your calendars because you won't want to miss it! Our "bloom" event was created to get everyone excited for the day that spring arrives - when the sun makes an appearance again - when the bees are buzzing and the birds are singing and the flowers start happily blooming! For now\, we weather the rain\, snow\, and ice but soon   life will be in bloom again and what better way to get excited than to come to our BLOOM edition Langlois Artisan Market! March 18th and 19th from 11-3pm at the Langlois Cheese Factory event venue. There will be over 30 amazing local vendors selling high quality goods! Plus\, there will be a food truck and beverages available to purchase. Bring cash. This event is made possible each time by local Oregon real estate agent Alexis Willick with North Point Inc. Follow Alexis Willick Realtor and Langlois Artisan Market on Facebook to stay up to date with the Langlois Artisan Market pop up events!
X-ALT-DESC;FMTTYPE=text/html:The Langlois Artisan Market - Bloom edition is happening soon! Mark your calendars because you won&rsquo\;t want to miss it! Our &ldquo\;bloom&rdquo\; event was created to get everyone excited for the day that spring arrives - when the sun makes an appearance again - when the bees are buzzing and the birds are singing and the flowers start happily blooming! For now\, we weather the rain\, snow\, and ice but soon &hellip\; life will be in bloom again and what better way to get excited than to come to our BLOOM edition Langlois Artisan Market! March 18th and 19th from 11-3pm at the Langlois Cheese Factory event venue. There will be over 30 amazing local vendors selling high quality goods! Plus\, there will be a food truck and beverages available to purchase. Bring cash. This event is made possible each time by local Oregon real estate agent Alexis Willick with North Point Inc. Follow Alexis Willick Realtor and Langlois Artisan Market on Facebook to stay up to date with the Langlois Artisan Market pop up events!
LOCATION:Langlois Cheese Factory 94179 Allen Boice Dr.\, Langlois\, OR
UID:e.2504.4952
SEQUENCE:3
DTSTAMP:20260419T135805Z
URL:https://directory.bandon.com/events/details/langlois-artisan-market-bloom-edition-4952
END:VEVENT

END:VCALENDAR
