BEGIN:VCALENDAR
VERSION:2.0
PRODID:-//ChamberMaster//Event Calendar 2.0//EN
METHOD:PUBLISH
X-PUBLISHED-TTL:P3D
REFRESH-INTERVAL:P3D
CALSCALE:GREGORIAN
BEGIN:VEVENT
DTSTART:20260101T163000Z
DTEND:20260101T180000Z
X-MICROSOFT-CDO-ALLDAYEVENT:FALSE
SUMMARY:King Tides on the Southern Oregon Coast
DESCRIPTION:Ring in the New Year with Oregon Shores for this informal King Tides Watch Party and witness some of the year's highest tides on the Oregon Coast. Together\, we'll learn about king tides\, why they happen\, and how they help us understand coastal flooding and sea level rise. We'll meet to safely observe and photograph the tides\, share observations with the Oregon King Tide Project\, and connect with others interested in recording changes along the coast.
X-ALT-DESC;FMTTYPE=text/html:<br />\nRing in the New Year with Oregon Shores for this informal King Tides Watch Party and witness some of the year&rsquo\;s highest tides on the Oregon Coast. Together\, we&rsquo\;ll learn about king tides\, why they happen\, and how they help us understand coastal flooding and sea level rise. We&rsquo\;ll meet to safely observe and photograph the tides\, share observations with the <a href="https://oregonkingtides.net/">Oregon King Tide Project</a>\, and connect with others interested in recording changes along the coast.
LOCATION:Face Rock Scenic Viewpoint
UID:e.2504.6143
SEQUENCE:3
DTSTAMP:20260419T171451Z
URL:https://directory.bandon.com/events/details/king-tides-on-the-southern-oregon-coast-6143
END:VEVENT

END:VCALENDAR
