BEGIN:VCALENDAR
VERSION:2.0
PRODID:-//ChamberMaster//Event Calendar 2.0//EN
METHOD:PUBLISH
X-PUBLISHED-TTL:P3D
REFRESH-INTERVAL:P3D
CALSCALE:GREGORIAN
BEGIN:VEVENT
DTSTART;VALUE=DATE:20251204
DTEND;VALUE=DATE:20251207
TRANSP:TRANSPARENT
X-MICROSOFT-CDO-ALLDAYEVENT:TRUE
SUMMARY:King Tides on the Southern Oregon Coast
DESCRIPTION:From November through March\, the Oregon coast is renowned for its wild and dramatic storms. In addition to the tempestuous weather\, king tides\, or especially high tides\, bombard the shores and make for adventurous viewing.\n\n\n\nIn the town of Bandon\, watching the high tides roll into the Coquille river and past the lighthouse can take your breath away. Beach Loop Drive\, skirting around Bandon\, offers many rocky beach locales for stopping and watching. Face Rock especially is always beautiful\, no matter wind\, rain\, high tide\, storm or sunshine.
X-ALT-DESC;FMTTYPE=text/html:<br />\nFrom November through March\, the Oregon coast is renowned for its wild and dramatic storms. In addition to the tempestuous weather\, king tides\, or especially high tides\, bombard the shores and make for adventurous viewing.<br />\n<br />\nIn the town of Bandon\, watching the high tides roll into the Coquille river and past the lighthouse can take your breath away. Beach Loop Drive\, skirting around Bandon\, offers many rocky beach locales for stopping and watching. Face Rock especially is always beautiful\, no matter wind\, rain\, high tide\, storm or sunshine.
LOCATION:Bandon Beaches\, especially Face Rock along Beach Loop Drive\, and the Coquille River jetty.
UID:e.2504.6138
SEQUENCE:3
DTSTAMP:20260419T185950Z
URL:https://directory.bandon.com/events/details/king-tides-on-the-southern-oregon-coast-6138
END:VEVENT

END:VCALENDAR
