BEGIN:VCALENDAR
VERSION:2.0
PRODID:-//ChamberMaster//Event Calendar 2.0//EN
METHOD:PUBLISH
X-PUBLISHED-TTL:P3D
REFRESH-INTERVAL:P3D
CALSCALE:GREGORIAN
BEGIN:VEVENT
DTSTART:20230528T013000Z
DTEND:20230528T043000Z
X-MICROSOFT-CDO-ALLDAYEVENT:FALSE
SUMMARY:Johnny Wheels & The Swamp Donkeys Memorial Weekend
DESCRIPTION:Memorial Weekend join us at Bandon Fisheries Warehouse Club @ Farm & Sea for some rockin blues.\n\n\n\nFood and beverages (beer\, wine\, non-alcoholic) available on site. No outside beverages allowed. Must be 21 or over to attend.\n\n\n\nABOUT\n\nJohnny Wheels is a singer / songwriter / harmonica player inspired by the soul of the Pacific Northwest.\n\n\n\nThe "Swamp Donkeys" are Johnny's band-mates who are inspired by Johnny to "live a song" on the edge.\n\n\n\nJohnny: "Nope! You won't hear a song exactly the same way twice   that's what CD's are for. We like to add some spice of musical exploration"\n\n\n\nThe son of a traveling bass player and singer\, Johnny "Wheels" Kennicott had music in his blood since birth\, but expressing himself musically took on new importance when Johnny broke his neck in a childhood accident\, leaving him paralyzed from the chest down.\n\n\n\n"The days of football practice after school were definitely over"\, Johnny says\, but music still provided an outlet for his infectious energy and his creative potential.\n\n\n\nThough his father's instrument of choice and his early passion of playing drums were now out due to limited function\, Johnny found\, through determined trial and error\, he could manipulate his paralyzed diaphragm to not only sing\, but also blow the harmonica. Since that time\, Johnny has been traveling the Pacific Northwest music scene\, spreading the gospel of the blues.\n\n\n\nCollectively\, the band hails from Oregon\, Texas and California and is typically tagged as a Blues band\; Although\, the diversity of the members' musical backgrounds becomes evident as the worlds of R&B\, Soul\, Jazz\, Funk and Rock are blended under a Blues umbrella.
X-ALT-DESC;FMTTYPE=text/html:<br />\n<br />\nMemorial Weekend join us at Bandon Fisheries Warehouse Club @ Farm &amp\; Sea for some rockin blues.<br />\n<br />\nFood and beverages (beer\, wine\, non-alcoholic) available on site. No outside beverages allowed. Must be 21 or over to attend.<br />\n<br />\nABOUT<br />\nJohnny Wheels is a singer / songwriter / harmonica player inspired by the soul of the Pacific Northwest.<br />\n<br />\nThe &ldquo\;Swamp Donkeys&rdquo\; are Johnny&rsquo\;s band-mates who are inspired by Johnny to &ldquo\;live a song&rdquo\; on the edge.<br />\n<br />\nJohnny: &ldquo\;Nope! You won&rsquo\;t hear a song exactly the same way twice &ndash\; that&rsquo\;s what CD&rsquo\;s are for. We like to add some spice of musical exploration&rdquo\;<br />\n<br />\nThe son of a traveling bass player and singer\, Johnny &ldquo\;Wheels&rdquo\; Kennicott had music in his blood since birth\, but expressing himself musically took on new importance when Johnny broke his neck in a childhood accident\, leaving him paralyzed from the chest down.<br />\n<br />\n&ldquo\;The days of football practice after school were definitely over&rdquo\;\, Johnny says\, but music still provided an outlet for his infectious energy and his creative potential.<br />\n<br />\nThough his father&rsquo\;s instrument of choice and his early passion of playing drums were now out due to limited function\, Johnny found\, through determined trial and error\, he could manipulate his paralyzed diaphragm to not only sing\, but also blow the harmonica. Since that time\, Johnny has been traveling the Pacific Northwest music scene\, spreading the gospel of the blues.<br />\n<br />\nCollectively\, the band hails from Oregon\, Texas and California and is typically tagged as a Blues band\; Although\, the diversity of the members&rsquo\; musical backgrounds becomes evident as the worlds of R&amp\;B\, Soul\, Jazz\, Funk and Rock are blended under a Blues umbrella.
LOCATION:Bandon Fisheries Warehouse Club @ Farm & Sea
UID:e.2504.5158
SEQUENCE:3
DTSTAMP:20260419T141825Z
URL:https://directory.bandon.com/events/details/johnny-wheels-the-swamp-donkeys-memorial-weekend-5158
END:VEVENT

END:VCALENDAR
