BEGIN:VCALENDAR
VERSION:2.0
PRODID:-//ChamberMaster//Event Calendar 2.0//EN
METHOD:PUBLISH
X-PUBLISHED-TTL:P3D
REFRESH-INTERVAL:P3D
CALSCALE:GREGORIAN
BEGIN:VEVENT
DTSTART:20230422T030000Z
DTEND:20230422T050000Z
X-MICROSOFT-CDO-ALLDAYEVENT:FALSE
SUMMARY:Hotel California "A Salute to the Eagles" Concert
DESCRIPTION:Join us Friday\, April 21 on a trip down a dark desert highway. Feel the cool wind in your hair. It's time to check into The Hotel California. This timeless music is appealing to audiences of all ages\, touching the hearts of every generation. \n\n\n\nHOTEL CALIFORNIA "A Salute to the Eagles" was founded with the intent of filling the void left by the demise of "The Eagles" in 1982. By blending their extraordinary vocal and musical talents\, HOTEL CALIFORNIA faithfully and accurately reproduces the sound of the Eagles.\n\n\n\nShow starts at 8:00 PM\, doors open at 7:30 PM. General admission tickets go on sale Friday\, March 31 at the Ko-Kwel Gift Shop.
X-ALT-DESC;FMTTYPE=text/html:<br />\n<br />\nJoin us Friday\, April 21 on a trip down a dark desert highway. Feel the cool wind in your hair. It&rsquo\;s time to check into The Hotel California. This timeless music is appealing to audiences of all ages\, touching the hearts of every generation.&nbsp\;<br />\n<br />\nHOTEL CALIFORNIA &ldquo\;A Salute to the Eagles&rdquo\; was founded with the intent of filling the void left by the demise of &ldquo\;The Eagles&rdquo\; in 1982. By blending their extraordinary vocal and musical talents\, HOTEL CALIFORNIA faithfully and accurately reproduces the sound of the Eagles.<br />\n<br />\nShow starts at 8:00 PM\, doors open at 7:30 PM. General admission tickets go on sale Friday\, March 31 at the Ko-Kwel Gift Shop.
LOCATION:The Mill Casino Salmon Room
UID:e.2504.5102
SEQUENCE:3
DTSTAMP:20260419T122001Z
URL:https://directory.bandon.com/events/details/hotel-california-a-salute-to-the-eagles-concert-5102
END:VEVENT

END:VCALENDAR
