BEGIN:VCALENDAR
VERSION:2.0
PRODID:-//ChamberMaster//Event Calendar 2.0//EN
METHOD:PUBLISH
X-PUBLISHED-TTL:P3D
REFRESH-INTERVAL:P3D
CALSCALE:GREGORIAN
BEGIN:VEVENT
DTSTART;VALUE=DATE:20230428
DTEND;VALUE=DATE:20230501
TRANSP:TRANSPARENT
X-MICROSOFT-CDO-ALLDAYEVENT:TRUE
SUMMARY:High Tide Tattoo and Arts Festival
DESCRIPTION:The Mill Casino is hosting their very own\, first tattoo event: High Tide Tattoo Art Festival with official Host Shop 11:11 Tattoo! \n\n\n\nThis three-day event is filled with world-class tattoo artists from all over the country. Multi award-winning artist like Brandon Davenport and former Ink Master contender Mat Valles will be here. Guests will have the rare opportunity to work with these artists directly to plan their next tattoo.\n\n\n\nSALMON ROOM\n\nAll ages\; 17 and under must be accompanied by an adult\n\n\n\nFRIDAY\, APRIL 28\n\n4 PM   10 PM\n\n\n\nSATURDAY\, APRIL 29\n\n12 PM   10 PM\n\n\n\nSUNDAY\, APRIL 30\n\n12 PM   8 PM
X-ALT-DESC;FMTTYPE=text/html:<br />\n<br />\nThe Mill Casino is hosting their very own\, first tattoo event: High Tide Tattoo Art Festival with official Host Shop 11:11 Tattoo!&nbsp\;<br />\n<br />\nThis three-day event is filled with world-class tattoo artists from all over the country. Multi award-winning artist like Brandon Davenport and former Ink Master contender Mat Valles will be here. Guests will have the rare opportunity to work with these artists directly to plan their next tattoo.<br />\n<br />\nSALMON ROOM<br />\nAll ages\; 17 and under must be accompanied by an adult<br />\n<br />\nFRIDAY\, APRIL 28<br />\n4 PM &ndash\; 10 PM<br />\n<br />\nSATURDAY\, APRIL 29<br />\n12 PM &ndash\; 10 PM<br />\n<br />\nSUNDAY\, APRIL 30<br />\n12 PM &ndash\; 8 PM
LOCATION:The Mill Casino
UID:e.2504.5131
SEQUENCE:3
DTSTAMP:20260419T121950Z
URL:https://directory.bandon.com/events/details/high-tide-tattoo-and-arts-festival-5131
END:VEVENT

END:VCALENDAR
