BEGIN:VCALENDAR
VERSION:2.0
PRODID:-//ChamberMaster//Event Calendar 2.0//EN
METHOD:PUBLISH
X-PUBLISHED-TTL:P3D
REFRESH-INTERVAL:P3D
CALSCALE:GREGORIAN
BEGIN:VEVENT
DTSTART:20220930T010000Z
DTEND:20220930T040000Z
X-MICROSOFT-CDO-ALLDAYEVENT:FALSE
SUMMARY:Elemental Documentary Film
DESCRIPTION:Come to the Bandon premiere screening of the "Elemental" documentary  a film inviting us to reimagine our relationship to wildfire. Doors open at 6 p.m.\, and the film begins at 6:30 p.m. on Thursday\, Sept. 29\, at the Sprague Community Theater. Stay after the movie for a Q&A session with film director Trip Jennings\, joined by local fire and safety professionals. Admission is $7\, and advance tickets are available through Eventbrite. Find additional information and ticketing links at BandonEvents.org.
X-ALT-DESC;FMTTYPE=text/html:Come to the Bandon premiere screening of the &ldquo\;Elemental&rdquo\; documentary&ndash\; a film inviting us to reimagine our relationship to wildfire. Doors open at 6 p.m.\, and the film begins at 6:30 p.m. on Thursday\, Sept. 29\, at the Sprague Community Theater. Stay after the movie for a Q&amp\;A session with film director Trip Jennings\, joined by local fire and safety professionals. Admission is $7\, and advance tickets are available through Eventbrite. Find additional information and ticketing links at BandonEvents.org.
LOCATION:Sprague Community Theater 1202 11th St. SW Bandon OR 97411
UID:e.2504.4473
SEQUENCE:3
DTSTAMP:20260420T001704Z
URL:https://directory.bandon.com/events/details/elemental-documentary-film-4473
END:VEVENT

END:VCALENDAR
