BEGIN:VCALENDAR
VERSION:2.0
PRODID:-//ChamberMaster//Event Calendar 2.0//EN
METHOD:PUBLISH
X-PUBLISHED-TTL:P3D
REFRESH-INTERVAL:P3D
CALSCALE:GREGORIAN
BEGIN:VEVENT
DTSTART:20220506T193000Z
DTEND:20220506T213000Z
X-MICROSOFT-CDO-ALLDAYEVENT:FALSE
SUMMARY:Eco Printing & Interpretive Hike
DESCRIPTION:This Event is part of the South Coast Culture Tour of Coos County\n\n\n\nOur group will begin with a short tutorial on Eco printing\, a process that transfers the natural dyes and shapes of plants onto fiber leaving a print behind. You will then be led on a hands-on experience to prepare your own item to print.\n\n\n\nOnce your item is bundled and soaking\, the Education staff from South Slough Reserve will lead you on an interpretive 1-hour hike on the beautiful trails.\n\n\n\nCome prepared with proper shoes for hiking and dressing in layers is recommended.\n\n\n\nUpon your return\, you will retrieve your item\, and take it home with you.
X-ALT-DESC;FMTTYPE=text/html:<br />\n<br />\n<strong><em>This Event is part of the South Coast Culture Tour of Coos County</em></strong><br />\n<br />\nOur group will begin with a short tutorial on Eco printing\, a process that transfers the natural dyes and shapes of plants onto fiber leaving a print behind.&nbsp\;You will then be led on a hands-on experience to prepare your own item to print.<br />\n<br />\nOnce your item is bundled and soaking\, the Education staff from South Slough Reserve will lead you on an interpretive 1-hour hike on the beautiful trails.<br />\n<br />\nCome prepared with proper shoes for hiking and dressing in layers is recommended.<br />\n<br />\nUpon your return\, you will retrieve your item\, and take it home with you.
LOCATION:South Slough National Estuarine Research Reserve 61907 Seven Devils Road\, Charleston\, OR
UID:e.2504.3244
SEQUENCE:3
DTSTAMP:20260420T071305Z
URL:https://directory.bandon.com/events/details/eco-printing-interpretive-hike-3244
END:VEVENT

END:VCALENDAR
