BEGIN:VCALENDAR
VERSION:2.0
PRODID:-//ChamberMaster//Event Calendar 2.0//EN
METHOD:PUBLISH
X-PUBLISHED-TTL:P3D
REFRESH-INTERVAL:P3D
CALSCALE:GREGORIAN
BEGIN:VEVENT
DTSTART:20230408T200000Z
DTEND:20230408T210000Z
X-MICROSOFT-CDO-ALLDAYEVENT:FALSE
SUMMARY:Easter Egg Hunt at City Park
DESCRIPTION:Bandon City Park Easter Egg Hunt\, Come join the fun\, Sponsored by the Bandon Lion's Club.\n\n\n\nBRING YOUR OWN BASKET!
X-ALT-DESC;FMTTYPE=text/html:<br />\nBandon City Park Easter Egg Hunt\, Come join the fun\, Sponsored by the Bandon Lion&#39\;s Club.<br />\n<br />\nBRING YOUR OWN BASKET!
LOCATION:Bandon City Park
UID:e.2504.4949
SEQUENCE:3
DTSTAMP:20260419T121848Z
URL:https://directory.bandon.com/events/details/easter-egg-hunt-at-city-park-4949
END:VEVENT

END:VCALENDAR
