BEGIN:VCALENDAR
VERSION:2.0
PRODID:-//ChamberMaster//Event Calendar 2.0//EN
METHOD:PUBLISH
X-PUBLISHED-TTL:P3D
REFRESH-INTERVAL:P3D
CALSCALE:GREGORIAN
BEGIN:VEVENT
DTSTART;VALUE=DATE:20260419
DTEND;VALUE=DATE:20260816
TRANSP:TRANSPARENT
X-MICROSOFT-CDO-ALLDAYEVENT:TRUE
SUMMARY:Circles in the Sand Walking Labyrinth
DESCRIPTION:Circles in the Sand was created to inspire love\, joy\, and kindness. Our team designs breathtaking sand labyrinths\, surrounded by intricate patterns and artwork. We invite everyone to take a peaceful walk along the sand paths and immerse themselves in the beauty and serenity of the experience.\n\n\n\nWhat to Expect\n\nThe times listed on our public schedule indicate when the artwork will be complete and ready for walking. Construction of the labyrinths typically begins two hours prior to the scheduled walk time. Plan for approximately 20 minutes to complete your walk. The finished labyrinth will remain accessible for at least two hours\, or longer\, depending on the incoming tide.\n\n \n\nOur home beach is Face Rock Wayside in Bandon\, Oregon. Please note that parking is limited and tends to fill up quickly. To prevent overcrowding\, our staff will be stationed at the entrance to manage the parking lot capacity.\n\n\n\nWhat is "Circles In The Sand?"\n\nPublic walks\, known as Draws\, transform the beach into a living canvas. Each labyrinth is crafted freehand\, its design unfolding naturally across the sand. This year's overarching theme is love\, while individual Draws explore diverse inspirations from the ocean and the cosmos to Zen tranquility. Once completed\, these labyrinths form a single\, unbroken path\, free of dead ends or wrong turns\, inviting reflection and connection.\n\n \n\nWalkers start at a designated entry point\, follow a single winding path through the labyrinth\, and emerge at the exit. Nearby\, a Dedication Circle offers visitors an opportunity to inscribe their name or dedicate their walk to someone special by writing in the sand.\n\n\n\nDates & Times\n\nApr 19 - Sun 9AM\n\nApr 20 - Mon 9AM\n\nApr 21 - Tue 10AM\n\n\n\nMay 04 - Mon 9AM\n\nMay 05 - Tue 9AM\n\nMay 06 - Wed 10AM\n\n\n\nMay 18 - Mon 9AM\n\nMay 19 - Tue 9AM\n\nMay 20 - Wed 10AM\n\n\n\nJun 03 - Wed 9AM\n\nJun 04 - Thu 9AM\n\nJun 05 - Fri 10AM\n\n\n\nJun 17 - Wed 9AM\n\nJun 18 - Thu 9AM\n\nJun 19 - Fri 10AM\n\n\n\nJul 02 - Thu 9AM\n\nJul 03 - Fri 9AM\n\nJul 04 - Sat 10AM\n\n\n\nJul 16 - Thu 9AM\n\nJul 17 - Fri 9AM\n\nJul 18 - Sat 10AM\n\n\n\nAug 01 - Sat 9AM\n\nAug 02 - Sun 9AM\n\n\n\nAug 14 - Fri 9AM\n\nAug 15 - Sat 9AM\n\n \n\nCircles in the Sand is a donation funded organization https://www.sandypathbandon.com/donations
X-ALT-DESC;FMTTYPE=text/html:<p dir="ltr">&nbsp\;</p>\n\n<div dir="ltr">Circles in the Sand was created to inspire love\, joy\, and kindness. Our team designs breathtaking sand labyrinths\, surrounded by intricate patterns and artwork. We invite everyone to take a peaceful walk along the sand paths and immerse themselves in the beauty and serenity of the experience.<br />\n<br />\n<strong>What to Expect</strong><br />\nThe times listed on our public schedule indicate when the artwork will be complete and ready for walking. Construction of the labyrinths typically begins two hours prior to the scheduled walk time. Plan for approximately 20 minutes to complete your walk. The finished labyrinth will remain accessible for at least two hours\, or longer\, depending on the incoming tide.<br />\n&nbsp\;</div>\n\n<div dir="ltr">Our home beach is Face Rock Wayside in Bandon\, Oregon. Please note that parking is limited and tends to fill up quickly. To prevent overcrowding\, our staff will be stationed at the entrance to manage the parking lot capacity.<br />\n<br />\n<strong>What is &quot\;Circles In The Sand?&quot\;</strong><br />\nPublic walks\, known as Draws\, transform the beach into a living canvas. Each labyrinth is crafted freehand\, its design unfolding naturally across the sand. This year&#39\;s overarching theme is love\, while individual Draws explore diverse inspirations&mdash\;from the ocean and the cosmos to Zen tranquility. Once completed\, these labyrinths form a single\, unbroken path\, free of dead ends or wrong turns\, inviting reflection and connection.<br />\n&nbsp\;</div>\n\n<div dir="ltr">Walkers start at a designated entry point\, follow a single winding path through the labyrinth\, and emerge at the exit. Nearby\, a Dedication Circle offers visitors an opportunity to inscribe their name or dedicate their walk to someone special by writing in the sand.<br />\n<br />\n<strong>Dates &amp\; Times</strong><br />\nApr 19 - Sun 9AM<br />\nApr 20 - Mon&nbsp\;9AM<br />\nApr 21&nbsp\;- Tue&nbsp\;10AM<br />\n<br />\nMay 04&nbsp\;- Mon 9AM<br />\nMay 05&nbsp\;- Tue&nbsp\;9AM<br />\nMay 06&nbsp\;- Wed&nbsp\;10AM<br />\n<br />\nMay 18 - Mon&nbsp\;9AM<br />\nMay 19&nbsp\;- Tue 9AM<br />\nMay 20 - Wed&nbsp\;10AM<br />\n<br />\nJun 03&nbsp\;- Wed&nbsp\;9AM<br />\nJun 04 - Thu&nbsp\;9AM<br />\nJun 05 - Fri&nbsp\;10AM<br />\n<br />\nJun 17 - Wed&nbsp\;9AM<br />\nJun 18 - Thu&nbsp\;9AM<br />\nJun 19 - Fri&nbsp\;10AM<br />\n<br />\nJul 02 - Thu&nbsp\;9AM<br />\nJul 03 - Fri&nbsp\;9AM<br />\nJul 04 - Sat&nbsp\;10AM<br />\n<br />\nJul 16 - Thu&nbsp\;9AM<br />\nJul 17 - Fri&nbsp\;9AM<br />\nJul 18 - Sat&nbsp\;10AM<br />\n<br />\nAug 01 - Sat&nbsp\;9AM<br />\nAug 02&nbsp\;- Sun&nbsp\;9AM<br />\n<br />\nAug 14&nbsp\;- Fri&nbsp\;9AM<br />\nAug 15&nbsp\;- Sat&nbsp\;9AM<br />\n&nbsp\;</div>\n\n<div dir="ltr">Circles in the Sand is a donation funded organization <a font-size:="" font-weight:="" href="https://www.sandypathbandon.com/donations" overflow-wrap:="" pt="">https://www.sandypathbandon.com/donations</a></div>\n
LOCATION:Face Rock View Point\, Bandon
UID:e.2504.6123
SEQUENCE:3
DTSTAMP:20260419T121848Z
URL:https://directory.bandon.com/events/details/circles-in-the-sand-walking-labyrinth-6123
END:VEVENT

END:VCALENDAR
