BEGIN:VCALENDAR
VERSION:2.0
PRODID:-//ChamberMaster//Event Calendar 2.0//EN
METHOD:PUBLISH
X-PUBLISHED-TTL:P3D
REFRESH-INTERVAL:P3D
CALSCALE:GREGORIAN
BEGIN:VEVENT
DTSTART;VALUE=DATE:20260807
DTEND;VALUE=DATE:20260817
TRANSP:TRANSPARENT
X-MICROSOFT-CDO-ALLDAYEVENT:TRUE
SUMMARY:Bandon Playhouse Presents "Nunsense"
DESCRIPTION:Bandon Playhouse is excited to present "Nunsense\," running for two weekends: August 7-9 and August14-16\, 2026 at the Sprague Community Theater in Bandon City Park.\n\nNunsense is habit-forming! This riotous show is a fundraiser put on by the Little Sisters of Hoboken to raise money to bury sisters accidently poisoned by the convent cook\, Sister Julia (Child of God). The show is packed with hilarious song and dance numbers and is known for its irreverent yet heartwarming humor. \n\nBandon Playhouse has provided the best in community theater\, from classic plays and musicals to premiere works by new playwrights\, since 1976. For more information\, visit BandonPlayhouse.org.
X-ALT-DESC;FMTTYPE=text/html:<p class="text-md font-regular leading-[24px] pb-xxs pt-[9px]" dir="ltr"><br />\n<span style="white-space-collapse: preserve\;">Bandon Playhouse is excited to present &ldquo\;Nunsense\,&rdquo\; running for two weekends: August 7-9 and August14-16\, 2026 at the Sprague Community Theater in Bandon City Park.</span></p>\n\n<p class="text-md font-regular leading-[24px] pb-xxs pt-[9px]" dir="ltr">Nunsense is habit-forming! This riotous show is a fundraiser put on by the Little Sisters of Hoboken to raise money to bury sisters accidently poisoned by the convent cook\, Sister Julia (Child of God). The show is packed with hilarious song and dance numbers and is known for its irreverent yet heartwarming humor.&nbsp\;</p>\n\n<p class="text-md font-regular leading-[24px] pb-xxs pt-[9px]" dir="ltr"><span style="white-space-collapse: preserve\;">Bandon Playhouse has provided the best in community theater\, from classic plays and musicals to premiere works by new playwrights\, since 1976. For more information\,&nbsp\;</span><a class="text-link underline underline-offset-4" dir="ltr" href="https://www.bandonplayhouse.org/" rel="noopener" target="_blank"><span style="white-space-collapse: preserve\;">visit BandonPlayhouse.org</span></a><span style="white-space-collapse: preserve\;">.</span></p>\n\n<p class="text-body font-regular leading-[24px] pt-[9px] pb-xxs" dir="ltr">&nbsp\;</p>\n
LOCATION:Sprague Community Theater
UID:e.2504.6202
SEQUENCE:3
DTSTAMP:20260426T013511Z
URL:https://directory.bandon.com/events/details/bandon-playhouse-presents-nunsense-6202
END:VEVENT

END:VCALENDAR
