BEGIN:VCALENDAR
VERSION:2.0
PRODID:-//ChamberMaster//Event Calendar 2.0//EN
METHOD:PUBLISH
X-PUBLISHED-TTL:P3D
REFRESH-INTERVAL:P3D
CALSCALE:GREGORIAN
BEGIN:VEVENT
DTSTART;VALUE=DATE:20260625
DTEND;VALUE=DATE:20260629
TRANSP:TRANSPARENT
X-MICROSOFT-CDO-ALLDAYEVENT:TRUE
SUMMARY:Bandon Fringe Festival
DESCRIPTION:Bandon Fringe Festival offers 14 performances over three days!\n\n\n\nThe Sprague Community Theater and Bandon Playhouse are pleased to announce the 2026 Bandon Fringe Festival\, June 25\, 26\, 27\, and 28. The festival schedule features several events\, including drama\, music\, storytelling\, mixed-media\, dance and performance art by local and touring performers. All performances are at the Sprague Community Theater\, 1202 11th St. SW\, in Bandon City Park.\n\n\n\nTickets are available for individual performances\, or purchase a fringe festival pass for all shows. Advance tickets are available online. Tickets will also be available at the box office during the festival. Visit BandonEvents.org for show details and ticketing information.
X-ALT-DESC;FMTTYPE=text/html:Bandon Fringe Festival offers 14 performances over three days!<br />\n<br />\nThe Sprague Community Theater and Bandon Playhouse are pleased to announce the 2026 Bandon Fringe Festival\, June 25\, 26\, 27\, and 28. The festival schedule features several events\, including drama\, music\, storytelling\, mixed-media\, dance and performance art by local and touring performers. All performances are at the Sprague Community Theater\, 1202 11th St. SW\, in Bandon City Park.<br />\n<br />\nTickets are available for individual performances\, or purchase a fringe festival pass for all shows. Advance tickets are available online. Tickets will also be available at the box office during the festival. Visit BandonEvents.org for show details and ticketing information.
LOCATION:Sprague Community Theater in Bandon City Park
UID:e.2504.6157
SEQUENCE:3
DTSTAMP:20260421T115838Z
URL:https://directory.bandon.com/events/details/bandon-fringe-festival-6157
END:VEVENT

END:VCALENDAR
