BEGIN:VCALENDAR
VERSION:2.0
PRODID:-//ChamberMaster//Event Calendar 2.0//EN
METHOD:PUBLISH
X-PUBLISHED-TTL:P3D
REFRESH-INTERVAL:P3D
CALSCALE:GREGORIAN
BEGIN:VEVENT
DTSTART;VALUE=DATE:20260912
DTEND;VALUE=DATE:20260914
TRANSP:TRANSPARENT
X-MICROSOFT-CDO-ALLDAYEVENT:TRUE
SUMMARY:Bandon Cranberry Festival
DESCRIPTION:Join us in Bandon for the 80th Annual Cranberry Festival\n\n\n\nWe'll have Arts & Craft Vendors\, Food Carts\, Cranberry Parade\, Live Entertainment\, Saturday Night Evening Dance\, Car Show\, Motorcycle Show\, Cranberry Eating Contest\, Cornhole Tournament\, Pickle Ball Tournament\, Petting Zoo\, Cranberry Equipment Display\, Cranberry Scavenger Hunt throughout Bandon\, Quilt Show\, Cranberry Kitchen Contest\, VFW Arts/Crafts Show\, VFW Sunday Morning Breakfast\, and more.....\n\n\n\nSeptember 10 - Cranberry Court Coronation\n\nSeptember 11 - Cranberry Bowl Football Game\n\n                          Cranberry Volleyball Game\n\n                          Quilt Show begins\n\n                          Cranberry Kitchen & VFW Craft Fair\n\nSeptember 12-13 - Festivities continue in City Park and Bandon Old Town\n\n\n\nGet your overnight reservations early!  Watch the official Cranberry Festival Webpage for more details.
X-ALT-DESC;FMTTYPE=text/html:<br />\nJoin us in Bandon for the 80th Annual Cranberry Festival<br />\n<br />\nWe&#39\;ll have&nbsp\;Arts &amp\; Craft Vendors\, Food Carts\, Cranberry Parade\,&nbsp\;Live Entertainment\, Saturday Night Evening Dance\,&nbsp\;Car Show\, Motorcycle Show\,&nbsp\;Cranberry Eating Contest\, Cornhole Tournament\, Pickle Ball Tournament\, Petting Zoo\, Cranberry Equipment Display\, Cranberry Scavenger Hunt throughout Bandon\, Quilt Show\, Cranberry Kitchen Contest\, VFW Arts/Crafts Show\, VFW Sunday Morning Breakfast\, and more.....<br />\n<br />\nSeptember 10 - Cranberry Court Coronation<br />\nSeptember 11 - Cranberry Bowl Football Game<br />\n&nbsp\; &nbsp\; &nbsp\; &nbsp\; &nbsp\; &nbsp\; &nbsp\; &nbsp\; &nbsp\; &nbsp\; &nbsp\; &nbsp\; &nbsp\; Cranberry Volleyball Game<br />\n&nbsp\; &nbsp\; &nbsp\; &nbsp\; &nbsp\; &nbsp\; &nbsp\; &nbsp\; &nbsp\; &nbsp\; &nbsp\; &nbsp\; &nbsp\; Quilt Show begins<br />\n&nbsp\; &nbsp\; &nbsp\; &nbsp\; &nbsp\; &nbsp\; &nbsp\; &nbsp\; &nbsp\; &nbsp\; &nbsp\;&nbsp\;&nbsp\; &nbsp\; Cranberry Kitchen &amp\; VFW Craft Fair<br />\nSeptember 12-13 - Festivities continue in City Park and Bandon Old Town<br />\n<br />\nGet your overnight reservations early!&nbsp\; Watch the official <a href="https://bandon.com/cranberry-festival/">Cranberry Festival Webpage</a>&nbsp\;for more details.
LOCATION:Bandon City Park\, Bandon Old Town\, Odd Fellows Hall\, VFW Post
UID:e.2504.6034
SEQUENCE:3
DTSTAMP:20260422T013257Z
URL:https://directory.bandon.com/events/details/bandon-cranberry-festival-6034
END:VEVENT

END:VCALENDAR
