BEGIN:VCALENDAR
VERSION:2.0
PRODID:-//ChamberMaster//Event Calendar 2.0//EN
METHOD:PUBLISH
X-PUBLISHED-TTL:P3D
REFRESH-INTERVAL:P3D
CALSCALE:GREGORIAN
BEGIN:VEVENT
DTSTART:20230304T220000Z
DTEND:20230305T000000Z
X-MICROSOFT-CDO-ALLDAYEVENT:FALSE
SUMMARY:Art Reception
DESCRIPTION:Art By The Sea Gallery and Studio\n\n1st Saturday of Every Month\n\n2pm-4pm
X-ALT-DESC;FMTTYPE=text/html:<div style="background-color: rgb(238\, 238\, 238)\; border: 1px solid rgb(204\, 204\, 204)\; padding: 5px 10px\; text-align: center\;">Art By The Sea Gallery and Studio</div>\n\n<div style="background-color: rgb(238\, 238\, 238)\; border: 1px solid rgb(204\, 204\, 204)\; padding: 5px 10px\; text-align: center\;">1st Saturday of Every Month<br />\n2pm-4pm</div>\n
LOCATION:Art by the Sea Gallery and Studio 154 Fillmore Avenue Bandon\, Oregon 97411
UID:e.2504.3115
SEQUENCE:3
DTSTAMP:20260419T135610Z
URL:https://directory.bandon.com/events/details/art-reception-03-04-2023-3115
END:VEVENT

END:VCALENDAR
