BEGIN:VCALENDAR
VERSION:2.0
PRODID:-//ChamberMaster//Event Calendar 2.0//EN
METHOD:PUBLISH
X-PUBLISHED-TTL:P3D
REFRESH-INTERVAL:P3D
CALSCALE:GREGORIAN
BEGIN:VEVENT
DTSTART:20261128T230000Z
DTEND:20261129T010000Z
X-MICROSOFT-CDO-ALLDAYEVENT:FALSE
SUMMARY:Alive After Five Art and Nog Walk
DESCRIPTION:The Greater Bandon Association warmly invites you to experience the best of Bandon. Stroll through the enchanting streets of Old Town Bandon and enjoy an evening of wine\, egg nog\, delicious food\, and exceptional shopping with our local merchants. \n\n\n\nSip\, savor\, shop\, and explore discover everything that makes Bandon unforgettable!
X-ALT-DESC;FMTTYPE=text/html:<br />\n<br />\nThe Greater Bandon Association warmly invites you to experience the best of Bandon. Stroll through the enchanting streets of Old Town Bandon and enjoy an evening of wine\, egg nog\, delicious food\, and exceptional shopping with our local merchants.&nbsp\;<br />\n<br />\nSip\, savor\, shop\, and explore&mdash\;discover everything that makes Bandon unforgettable!
LOCATION:Old Town Bandon
UID:e.2504.6200
SEQUENCE:3
DTSTAMP:20260422T042358Z
URL:https://directory.bandon.com/events/details/alive-after-five-art-and-nog-walk-6200
END:VEVENT

END:VCALENDAR
