BEGIN:VCALENDAR
VERSION:2.0
PRODID:-//ChamberMaster//Event Calendar 2.0//EN
METHOD:PUBLISH
X-PUBLISHED-TTL:P3D
REFRESH-INTERVAL:P3D
CALSCALE:GREGORIAN
BEGIN:VEVENT
DTSTART;VALUE=DATE:20220911
DTEND;VALUE=DATE:20220912
TRANSP:TRANSPARENT
X-MICROSOFT-CDO-ALLDAYEVENT:TRUE
SUMMARY:11th Annual Bike The Rogue
DESCRIPTION:23 & 38 Mile Bike the Rogue Rides\n\nBike the Rogue routes follow the banks of the Rogue River in this spectacularly scenic and remote\, southwestern corner of Oregon in Gold Beach  where the Rogue meets the Pacific. \n\n\n\nBoth rides start and finish at Buffington Park in Gold Beach. The 38-mile ride rises ~2000 vertical feet and includes 7 miles along the Pacific Ocean with panoramic views of beaches\, sea stacks\, and rugged coastline. The 23-mile ride rises ~1100 vertical feet.\n\nA continental breakfast is provided at start of the event with well-stocked rest stations every 7-10 miles along the route. A sag wagon will have a mechanic for assistance with any problems you may encounter.\n\n\n\nRegistration:\n\nTo register\, download the application and waiver forms. Complete\, sign\, and mail to the event along with payment for the desired ride. \n\n\n\nYou may also sign up and register at the event.
X-ALT-DESC;FMTTYPE=text/html:<p>&nbsp\;</p>\n\n<h1><span style="font-family:verdana\;"><span style="font-size:14px\;">23 &amp\; 38 Mile Bike the Rogue Rides</span></span></h1>\n\n<p><span style="font-size:14px\;"><span style="font-family:verdana\;">Bike the Rogue routes follow the banks of the Rogue River in this spectacularly scenic and remote\, southwestern corner of Oregon in Gold Beach&hellip\; where the Rogue meets the Pacific.&nbsp\;<br />\n<br />\nBoth rides start and finish at Buffington Park in Gold Beach.&nbsp\;The 38-mile ride rises ~2000 vertical feet and includes 7 miles along the Pacific Ocean with panoramic views of beaches\, sea stacks\, and&nbsp\;rugged coastline. The&nbsp\;23-mile ride rises ~1100 vertical feet.</span></span></p>\n\n<p><span style="font-size:14px\;"><span style="font-family:verdana\;">A continental breakfast is provided at start of the event with well-stocked rest stations every 7-10 miles along the route. A sag wagon will have a mechanic for assistance with any problems you may encounter.<br />\n<br />\nRegistration:<br />\nTo register\, download the <a href="https://goldbeachrotary.com/wp-content/uploads/2021/06/2021_Application-and-Waiver.pdf">application and waiver forms</a>. Complete\, sign\, and mail to the event along with payment for the desired ride.&nbsp\;<br />\n<br />\nYou may also sign up and register at the event.&nbsp\;</span></span></p>\n
LOCATION:Ride starts/ends at Buffington Park\, 3 blocks east of Highway 101 on Gauntlet St\, Gold Beach\, OR
UID:e.2504.2028
SEQUENCE:3
DTSTAMP:20260420T001827Z
URL:https://directory.bandon.com/events/details/11th-annual-bike-the-rogue-2028
END:VEVENT

END:VCALENDAR
